BEGIN:VCALENDAR
VERSION:2.0
PRODID:-//Williamsburg County First Steps - ECPv6.2.3//NONSGML v1.0//EN
CALSCALE:GREGORIAN
METHOD:PUBLISH
X-WR-CALNAME:Williamsburg County First Steps
X-ORIGINAL-URL:https://williamsburgcountyfirststeps.org
X-WR-CALDESC:Events for Williamsburg County First Steps
REFRESH-INTERVAL;VALUE=DURATION:PT1H
X-Robots-Tag:noindex
X-PUBLISHED-TTL:PT1H
BEGIN:VTIMEZONE
TZID:America/New_York
BEGIN:DAYLIGHT
TZOFFSETFROM:-0500
TZOFFSETTO:-0400
TZNAME:EDT
DTSTART:20240310T070000
END:DAYLIGHT
BEGIN:STANDARD
TZOFFSETFROM:-0400
TZOFFSETTO:-0500
TZNAME:EST
DTSTART:20241103T060000
END:STANDARD
END:VTIMEZONE
BEGIN:VEVENT
DTSTART;TZID=America/New_York:20240502T080000
DTEND;TZID=America/New_York:20240502T190000
DTSTAMP:20260422T012405
CREATED:20240429T174332Z
LAST-MODIFIED:20240429T175828Z
UID:16710-1714636800-1714676400@williamsburgcountyfirststeps.org
SUMMARY:"I Think I Can" Amtrak Field Trip
DESCRIPTION:Parents As Teachers Program sponsored field trip to Florence SC via Amtrak train.
URL:https://williamsburgcountyfirststeps.org/event/i-think-i-can-amtrak-field-trip/
LOCATION:SC
END:VEVENT
BEGIN:VEVENT
DTSTART;TZID=America/New_York:20240510T180000
DTEND;TZID=America/New_York:20240510T210000
DTSTAMP:20260422T012405
CREATED:20240429T175417Z
LAST-MODIFIED:20240429T175610Z
UID:16713-1715364000-1715374800@williamsburgcountyfirststeps.org
SUMMARY:"Stepping Into Character" Literacy Sneaker Ball
DESCRIPTION:Williamsburg County First Steps along with Save The Children sponsored event.
URL:https://williamsburgcountyfirststeps.org/event/stepping-into-character-literacy-sneaker-ball/
LOCATION:Willamsburg County E-911 Recovery Gymnasium\, 2086 Thurgood Marshall Hwy\, KINGSTREE\, SC\, 29556\, United States
END:VEVENT
END:VCALENDAR